BEGIN:VCALENDAR
VERSION:2.0
PRODID:-//hacksw/handcal//NONSGML v1.0//EN
BEGIN:VEVENT
SUMMARY:Sortie adulte pour tous
UID:190dd712-bc9d-4064-9c57-935a7ec93c27
DTSTART:20260425T114500Z
DTEND:20260425T150000Z
LOCATION:Location VTT Port lissac 19600 Lissac sur couze
CATEGORIES:Manifestation
STATUS:
DESCRIPTION:<p>Sortie au depart de la base nautique, distance environ
 30km.</p>
 
 <p>ATTENTION : ne pas oublier la soiree des 20 ans du club
 a 19h</p>
URL;VALUE=URI:https://www.vttacv.fr/evenements/2026/04/25/sortie-adulte-pour-tous-2444707
END:VEVENT
END:VCALENDAR
