BEGIN:VCALENDAR
VERSION:2.0
PRODID:-//hacksw/handcal//NONSGML v1.0//EN
BEGIN:VEVENT
SUMMARY:Ecole VTT Base Nautique
UID:835566ed-c405-49ce-9359-2c91f697fe52
DTSTART:20260425T114500Z
DTEND:20260425T143000Z
LOCATION:Location VTT Port lissac 19600 Lissac sur couze
CATEGORIES:Manifestation
STATUS:
DESCRIPTION:<p><span style="color:#c0392b;"><strong>Rappel repas des
 20 ans du club le soir a la salle des fetes de saint Pantaleon de
 LArche</strong></span></p>
 
 <p>📍 <strong>Rendez-vous</strong> :
 13h45<br>
 📌 <strong>Lieu</strong> : Base Nautique
 lissac<br>
  <strong>Belle semaine a tous</strong></p>
 
 <p>📝
 <strong>Inscriptions obligatoires</strong><br>
 L’inscription doit
 etre effectuee <strong>sur le site du club avant 10h le jour de la
 seance</strong>.<br>
 ⚠️ Attention : il est imperatif d’etre
 <strong>connecte a votre compte</strong> pour valider l’inscription
 ; un simple clic sur le lien ne suffit pas.</p>
 
 <p>En cas de
 difficulte, n’hesitez pas a nous contacter.</p>
 
 <p>⚠️ Les
 groupes etant limites, les jeunes <strong>non inscrits a l’avance
 ne seront pas prioritaires</strong> en cas de surnombre.</p>
 
 <p>🚧
 <strong>Securite</strong><br>
 Une zone fermee sera reservee
 exclusivement aux jeunes et aux educateurs afin d’assurer la
 securite de tous.</p>
 
 <p>Sportivement,</p>
 
 <p>Alexandre Bonnin
 0617748449</p>
URL;VALUE=URI:https://www.vttacv.fr/evenements/2026/04/25/ecole-vtt-base-nautique-2444118
END:VEVENT
END:VCALENDAR
