BEGIN:VCALENDAR
VERSION:2.0
PRODID:-//hacksw/handcal//NONSGML v1.0//EN
BEGIN:VEVENT
SUMMARY:SORTIE CLUB WATT BIKE ::: Marcillac la Croisille
UID:46eb5dd9-96e8-4161-90c1-f8f8a360bd9d
DTSTART:20260424T053000Z
DTEND:20260424T130000Z
LOCATION:Localisation Parking resto "Les Pieds Dans l'Eau" 19320 MARCILLAC LA CROISILLE
CATEGORIES:Manifestation
STATUS:
DESCRIPTION:<p>Sortie club vttae Marcillac la crosille, sur le
 circuit n°7 (35km) de la base de sediere. suivit du repas au
 restaurant "Les Pieds dans l'Eau" (menu complet 20€ + apero). Le
 depart est fixe a st- pantaleon (parking salle des fetes) a
 <u>7h30</u>, pour covoiturages avec remorque club ou <u><span
 style="color:#000000;">8h30</span> </u>(parking restaurant "les pieds
 dans l'eau) a Marcillac. J'attend une reponse de votre par au plus
 tard mercredi soir .</p>
URL;VALUE=URI:https://www.vttacv.fr/evenements/2026/04/24/sortie-club-watt-bike-marcillac-la-croisille-2443148
END:VEVENT
END:VCALENDAR
